Workbook

Sheet 入力フォーム
A1: 看護師復職研修受講申込書
A4: ①受講者情報
A5: ふりがな | L5: 生年 月日 | S5: 年 | V5: 月 | Z5: 日
A6: 氏名
N7: （年齢 | Z7: 歳）
A8: 住所 | B8: 〒
A10: メールアドレス | L10: 電話 番号 | N10: 携帯：
N11: 自宅：
A12: 免許取得日 | E12: 年 | H12: 月 | K12: 日 | L12: 家族 構成
N13: （例：夫，子二人（8歳，4歳））
A15: 年 | B15: 月 | C15: 職 歴
A21: この研修を受講しようと思った動機は何ですか？
C23: 例：研修内容，子どもが中学生になった等
A24: 復職への意欲
P25: （ | Z25: ）
A26: この研修を何で知りましたか？
G27: （名称 | Z27: ）
F28: （ | Z28: ）
A29: 実技講習，職場体験で具体的に何を学びたいですか？ | C29: （実技講習）
C32: （職場体験）
C35: ※ ご記入いただいた内容に対応できない可能性もあります。予めご了承ください。
A36: 希望する職場体験日数 （最大3日参加可能）
A37: 希望する職場体験先 別紙「職場体験先一覧」を参照し，ご記入ください。 | C37: ① 医療機関名
C38: ② 医療機関名
C39: ③ 医療機関名
C40: ※ 職場体験は1か所につき1回まで，同じ医療機関に2回以上は参加できません。
C41: ※ ご記入いただいた希望に添えない可能性もあります。予めご了承ください。
A42: 自宅学習での接続環境
A44: 託児の利用
C45: 託児の利用を希望する方は，「②お子さん情報」もご記入ください。
A46: その他（要望など）
C48: 職場体験の希望日，遅刻・早退予定，自宅学習のみ受講希望の場合など記入してください。
A50: ※ 看護師免許（准看護師免許）の写しを添付してください。 ※ 研修期間における損害事故及び賠償事故に備え，受講者には研修補償制度に加入していただきます（費用は市が負担します）。 ※ 申込書及び看護師免許の写しに記載された受講者の情報は，講師の八千代医療センター及び職場体験先の医療機関，保険会社へ提供します。
A58: ②お子さん情報（託児の利用を希望する方のみご記入ください）
A59: ふりがな | L59: 年齢 | Z59: 歳
A60: 氏名
A62: 愛称 | L62: 平熱 | Z62: ℃
A65: 託児の利用日
A66: 排泄
A67: 午前中の昼寝 | E67: （ | H67: 時 | I67: ～ | L67: 時 | M67: ）
A68: アレルギー
E69: （ | Z69: ）
A70: その他（伝えておきたいことなど）
A73: ※ 満6か月以上のお子さんが対象となります。
A75: ※ 必要に応じて，おむつ，おしり拭き，着替え，タオル，ビニール袋，粉ミルク， 哺乳瓶，お湯， 昼寝用布団，おやつ，飲み物，携帯用補助便座などをご持参ください。 (全てお名前をご記入ください。)
A79: ※ 玩具の持ち込みはご遠慮ください。紛失・破損等の責任は負いかねます。
A81: ※ 前日までに37.5℃以上の発熱，または当日に嘔吐，下痢，咳，鼻水，くしゃみ（アレルギーを除く）の症状がある場合は，他のお子さんへの感染を防ぐためご利用いただけません。
A85: ※ 申込書に記載されたお子さんの情報は，講師の八千代医療センター及び保育士へ提供します。

Sheet このシートは使用しないでください
D1: 受講者情報 | E1: 備考
C2: ふりがな | D2: =IF(入力フォーム!B5="", "", 入力フォーム!B5)
C3: 氏名 | D3: =IF(入力フォーム!B6="", "", 入力フォーム!B6)
C4: 生年月日 | D4: =入力フォーム!N5&""&入力フォーム!S5&""&入力フォーム!T5&""&入力フォーム!V5&""&入力フォーム!W5&""&入力フォーム!Z5&"" -> 年月日
C5: 年齢 | D5: =IF(入力フォーム!W7="", "", 入力フォーム!W7)
C6: 郵便番号 | D6: =IF(入力フォーム!C8="", "", 入力フォーム!C8)
C7: 住所 | D7: =IF(入力フォーム!B9="", "", 入力フォーム!B9)
C8: メールアドレス | D8: =IF(入力フォーム!B10="", "", 入力フォーム!B10)
C9: 携帯番号 | D9: =IF(入力フォーム!P10="", "", 入力フォーム!P10)
C10: 自宅番号 | D10: =IF(入力フォーム!P11="", "", 入力フォーム!P11)
C11: 免許取得日 | D11: =入力フォーム!B12&""&入力フォーム!E12&""&入力フォーム!F12&""&入力フォーム!H12&""&入力フォーム!I12&""&入力フォーム!K12&"" -> 年月日
C12: 家族構成 | D12: =IF(入力フォーム!N12="", "", 入力フォーム!N12)
C14: 受講動機 | D14: =IF(入力フォーム!C21="", "", 入力フォーム!C21)
A15: 0 | C15: 復職への意欲 | D15: =IF(A15=1,"近々復職を考えている（半年以内）",IF(A15=2,"1年以内には復職したい",IF(A15=3,"ゆくゆくは復職を考えている（1年後以降）",IF(A15=4,"その他","")))) | E15: =IF(入力フォーム!Q25="", "", 入力フォーム!Q25)
A16: 0 | C16: 何で知ったのか | D16: =IF(A16=1,"広報やちよ",IF(A16=2,"市HP",IF(A16=3,"やちよ情報メール",IF(A16=4,"市公式LINE",IF(A16=5,"市公式X",IF(A16=6,"市内の施設",IF(A16=7,"その他",""))))))) | E16: =IF(A16=6,入力フォーム!I27,IF(A16=7,入力フォーム!G28,""))
C17: 実技講習で学びたこと | D17: =IF(入力フォーム!C30="", "", 入力フォーム!C30)
C18: 職場体験で学びたいこと | D18: =IF(入力フォーム!C33="", "", 入力フォーム!C33)
A19: 0 | C19: 希望する職場体験日数 | D19: =IF(A19=1,"１日",IF(A19=2,"２日",IF(A19=3,"３日","")))
C20: 希望する職場体験先① | D20: =IF(入力フォーム!I37="", "", 入力フォーム!I37)
C21: 希望する職場体験先② | D21: =IF(入力フォーム!I38="", "", 入力フォーム!I38)
C22: 希望する職場体験先③ | D22: =IF(入力フォーム!I39="", "", 入力フォーム!I39)
C23: 自宅学習での接続環境 | D23: =B76&" "&B77&" "&B78&" "&B79&" "&B80&""
A24: 0 | C24: 託児の利用 | D24: =IF(A24=1,"利用する",IF(A24=2,"利用しない",""))
C25: その他（要望など） | D25: =IF(入力フォーム!C46="", "", 入力フォーム!C46)
D26: お子さま情報 | E26: 備考
C27: 氏名 | D27: =IF(入力フォーム!B60="", "", 入力フォーム!B60)
C28: 愛称 | D28: =IF(入力フォーム!B62="", "", 入力フォーム!B62)
C29: 年齢 | D29: =IF(入力フォーム!N59="", "", 入力フォーム!N59)
C30: 平熱 | D30: =IF(入力フォーム!N62="", "", 入力フォーム!N62)
A32: 0 | C32: 託児の利用日 | D32: =IF(A32=1,"両日利用する",IF(A32=2,"１月１６日（土）の実技講習のみ",IF(A32=3,"２月６日（土）の座談会のみ","")))
A33: 0 | C33: 排泄 | D33: =IF(A33=1,"自分でできる",IF(A33=2,"おむつ",""))
A34: 0 | C34: 午前中の昼寝 | D34: =IF(A34=1,"する",IF(A34=2,"しない","")) | E34: =入力フォーム!F67&""&入力フォーム!H67&""&入力フォーム!I67&""&入力フォーム!K67&""&入力フォーム!L67&"" -> 時～時
A35: 0 | C35: アレルギー | D35: =IF(A35=1,"ない",IF(A35=2,"ある","")) | E35: =IF(入力フォーム!F69="", "", 入力フォーム!F69)
C36: その他（伝えておきたいこと） | D36: =IF(入力フォーム!C70="", "", 入力フォーム!C70)
A39: 一日職場体験先リスト
A40: 稲見内科胃腸科
A41: えみファミリークリニック
A42: 鬼倉循環器内科クリニック
A43: 勝田台クリニック
A44: 勝田台病院
A45: キャップスクリニック村上
A46: キャップスクリニック八千代緑が丘
A47: 小松こどもクリニック
A48: さとう内科医院
A49: しのだの森ホスピタル
A50: 島田台総合病院
... A60: 体験日時
A61: 46040
A62: 46041
A63: 46042
A64: 46043
A65: 46044
A66: 46045
A67: 46046
A68: 46047
A69: 46048
A70: 46049
A71: 46050
A72: 46051
A73: 46052
A75: 自宅学習での接続環境
A76: FALSE | B76: =IF(A76=TRUE,"スマートフォン","")
A77: FALSE | B77: =IF(A77=TRUE,"パソコン","")
A78: FALSE | B78: =IF(A78=TRUE,"タブレット","")
A79: FALSE | B79: =IF(A79=TRUE,"プリンター","")
A80: FALSE | B80: =IF(A80=TRUE,"視聴器機なし（個別対応）","")
